{"text_format":"1","workbook":"xlsx","n_sheets":6,"sheets":["Salus","materialliste2","Data","Salus_material","Xlsx_print","Sammendrag"],"not_rendered":{"charts":0,"images":2,"macros":1,"external_links":0,"defined_names":5,"comments":1,"pivot_tables":0},"unopened":[],"bounds":{"document_bytes":16777216,"sheet_cells":100000,"rows_first":2000,"rows_last":500,"rows_between":2000,"halvings":0,"cell_chars":16384,"cell_head_chars":4096},"cells_cut":0,"cells_raw":0,"read":"whole","date_system":"1900"}

{"sheet":"Salus","index":0,"n_rows":22,"n_cols":13,"rows_kept":22,"cut":false,"hidden":false,"merged":[[20,4,29,13],[4,5,4,7],[1,6,2,13],[1,1,1,5],[18,10,18,13]]}
[]
["Prosjektnavn"]
[]
["Rør og festemateriell",null,null,null,"Skap og fordelere",null,null,null,null,null,"Styring"]
[null,null,null,null,null,"Antall kurser"]
[null,"Areal",null,null,null,"12mm","16mm","20mm",null,null,null,"Antall kurser","Antall soner"]
["12mm rør i Kompaktplater 13mm EPS",null,null,null,"Skap 1",null,null,null,null,null,{"$f":"E7","v":"Skap 1"},{"$f":"SUM(F7:H7)","v":0}]
["16mm rør i Kompaktplater 17mm EPS",null,null,null,"Skap 2",null,5,null,null,null,{"$f":"E8","v":"Skap 2"},{"$f":"SUM(F8:H8)","v":5},5]
[null,null,null,null,"Skap 3",null,null,null,null,null,"Skap 3",0]
["16mm rør i Easy-plater 25mm EPS",null,null,null,"Skap 4",null,null,null,null,null,"Skap 4",0]
["16mm rør i Easy-plater 50mm EPS",null,null,null,"Skap 5",null,null,null,null,null,"Skap 5",0]
[null,null,null,null,"Skap 6",null,null,null,null,null,"Skap 6",0]
["12mm i festeskinner på isolasjon"]
["16mm i festeskinner på isolasjon",50,null,null,null,null,null,null,null,null,"Styring via app?",null,"Nei"]
["20mm i festeskinner på isolasjon"]
[null,null,null,null,null,null,null,null,null,null,"Type termostat",null,"Trådløs (Batteri)"]
["16mm rør i aluminiumsplater"]
["20mm rør i aluminiumsplater"]
[null,null,null,null,null,null,null,null,null,null,"For informasjon om ulike termostater, klikk her."]
["12mm rør uten festemateriell"]
["16mm rør uten festemateriell",null,null,null,"Dette arket er laget for å gi et overslag på materialforbruk ved bruk av Arjonfloor gulvvarme fra Armaturjonsson AS. Armaturjonsson AS står ikke ansvarlig for eventuelle mangler eller feil."]
["20mm rør uten festemateriell"]

{"sheet":"materialliste2","index":1,"n_rows":184,"n_cols":9,"rows_kept":184,"cut":false,"hidden":true,"merged":[]}
["NRF","Artikkel","Antall",null,null,null,null,2,3]
["835 60 01","Gulvvarmerør 12x1.7 pex - 100m, Arjonfloor",{"$f":"(Salus!B7+Salus!B13+Salus!B20)*8.5","v":0},{"$f":"C2","v":0},null,null,0,0,0]
["835 60 04","Gulvvarmerør 16x1.8 pex - 600m, Arjonfloor",{"$f":"(Salus!B8+Salus!B10+Salus!B11+Salus!B14+Salus!B17+Salus!B21)*5.5","v":275},{"$f":"C3","v":275},null,null,1,1,0]
["835 60 05","Gulvvarmerør 20x2.0 pex - 500m, Arjonfloor",{"$f":"(Salus!B15+Salus!B18+Salus!B22)*3.5","v":0},0,null,null,2,1,0]
[null,null,null,{"$f":"SUM(D2:D4)","v":275},null,null,3,0,1]
["835 60 23","Kompakt m/vendespor 12/125/13x750x1175",{"$f":"Salus!B7*1.14","v":0},0,null,null,4,2,0]
["835 60 26","Kompakt m/vendespor 16/192/17x768x1175",{"$f":"Salus!B8*1.1","v":0},0,null,null,5,1,1]
[null,null,null,{"$f":"SUM(D6:D7)","v":0},null,null,6,0,2]
["835 61 43","EPS-plate m/alum. 16/192/25x768x1175. Easy",{"$f":"Salus!B10*1.1","v":0},0,null,null,7,2,1]
["835 61 44","EPS-plate m/alum. 16/192/50x768x1175, Easy",{"$f":"Salus!B11*1.1","v":0},0,null,null,8,1,2]
[null,null,null,{"$f":"SUM(D9:D10)","v":0},null,null,9,0,3]
["835 61 01","Festeskinne 12-22 mm, L=1m",{"$f":"Salus!B13+Salus!B14+Salus!B15","v":50},50,null,null,10,2,2]
["835 61 03","Festeklips 16-20mm, lengde 60mm",{"$f":"(Salus!B14+Salus!B15)*8","v":400},400,null,null,11,1,3]
["835 61 11","Festeklips festeskinne 16-20mm",{"$f":"C12*3","v":150},150,null,null,12,0,4]
["835 61 04","Festeklips 12mm",{"$f":"Salus!B13*8","v":0},0,null,null,13,2,3]
[null,null,null,null,null,null,14,1,4]
["835 61 47","Alu-plate 1/16/190/1150",{"$f":"Salus!B17*0.85*4.35","v":0},0]
["835 61 48","Alu-plate 1/20/280/1150",{"$f":"Salus!B18*2.55","v":0},0]
[null,null,null,{"$f":"SUM(D17:D18)","v":0}]
["835 60 46","Universal nettverksport",{"$f":"IF(Salus!M14=Data!G1,1,0)","v":0},{"$f":"C20","v":0}]
[null,null,null,{"$f":"SUM(D2:D20)","v":1150}]
[]
[null,{"$f":"Salus!E7","v":"Skap 1"},null,{"$f":"D27","v":0}]
["835 63 24","Fordelerskap      6  kurser, Arjonfloor",{"$f":"COUNTIFS(Salus!L7,\"<8\",Salus!L7,\">0\")","v":0},0]
["835 63 25","Fordelerskap    10  kurser, Arjonfloor",{"$f":"COUNTIFS(Salus!L7,\"<11\",Salus!L7,\">7\")","v":0},0]
["835 63 26","Fordelerskap    13  kurser, Arjonfloor",{"$f":"COUNTIFS(Salus!L7,\"<15\",Salus!L7,\">10\")","v":0},0]
[null,null,null,{"$f":"SUM(D24:D26)","v":0}]
["835 62 81","Ventil til fordeler  1\"x 1\" utv.gj.",{"$f":"(C24+C25+C26)*2","v":0},0]
["835 62 82","Albue N 1\"x1\" m/frimutter lang side",{"$f":"C28","v":0},0]
["835 62 71","Modulfordeler gulvvarme   2 kurser 16mm",{"$f":"VLOOKUP(Salus!F7+Salus!G7,materialliste2!G$2:I$16,2,FALSE)","v":0},0]
["835 62 72","Modulfordeler gulvvarme   3 kurser 16mm",{"$f":"VLOOKUP(Salus!F7+Salus!G7,materialliste2!G$2:I$16,3,FALSE)","v":0},0]
["835 62 75","Modulfordeler gulvvarme   2 kurser 20mm",{"$f":"VLOOKUP(Salus!H7,materialliste2!G$2:I$16,2,FALSE)","v":0},0]
["835 62 76","Modulfordeler gulvvarme   3 kurser 20mm",{"$f":"VLOOKUP(Salus!H7,materialliste2!G$2:I$16,3,FALSE)","v":0},0]
["835 62 47","Endestykke,i par f. gulvvarmefordeler rød/blå",{"$f":"C24+C25+C26","v":0},0]
["511 21 22","Overgangsunion 16-12mm",{"$f":"Salus!F7*2","v":0},0]
["511 18 65","Kapp for kupling 16mm, blå plast",{"$f":"(((C30*2)+(C31*3))-(Salus!F7+Salus!G7))*2","v":0},0]
["511 18 66","Kapp for kupling 20mm, blå plast",{"$f":"(((C32*2)+(C33*3))-Salus!H7)*2","v":0},0]
[null,null,null,{"$f":"SUM(D28:D34)","v":0}]
["835 61 14","Rørføringsbend for 12mm rør",{"$f":"Salus!F7*2","v":0},0]
["835 61 15","Rørføringsbend for 16mm rør",{"$f":"Salus!G7*2","v":0},0]
["835 61 16","Rørføringsbend for 20mm rør",{"$f":"Salus!H7*2","v":0},0]
[null,null,null,{"$f":"SUM(D39:D41)","v":0}]
["835 60 38","Aktuator T30/230NC",{"$f":"Salus!L7","v":0},0]
["835 60 39","Trådløs Master 8 KL08",{"$f":"IF(Salus!M7=\"\",0,1)","v":0},0]
["835 60 41","Trådløs Master utbyggning  4 KL04",{"$f":"IF(Salus!M7<9,0,1)","v":0},0]
["835 60 67","Trådløs romtermostat Quantum, hvit",{"$f":"IF(Salus!$M$16=Data!H1,Salus!M7,0)","v":0},0]
["835 60 66","Trådløs romtermostat Quantum 230V, hvit",{"$f":"IF(Salus!$M$16=Data!H2,Salus!M7,0)","v":0},0]
["835 60 56","Trådløs Romtermostat analog hvit",{"$f":"IF(Salus!$M$16=Data!H3,Salus!M7,0)","v":0},0]
[null,null,null,{"$f":"SUM(D43:D48)","v":0}]
[null,{"$f":"Salus!E8","v":"Skap 2"},null,{"$f":"D54","v":1}]
["835 63 24","Fordelerskap      6  kurser, Arjonfloor",{"$f":"COUNTIFS(Salus!L$8,\"<8\",Salus!L$8,\">0\")","v":1},1]
["835 63 25","Fordelerskap    10  kurser, Arjonfloor",{"$f":"COUNTIFS(Salus!L$8,\"<11\",Salus!L$8,\">7\")","v":0},0]
["835 63 26","Fordelerskap    13  kurser, Arjonfloor",{"$f":"COUNTIFS(Salus!L8,\"<15\",Salus!L8,\">10\")","v":0},0]
[null,null,null,{"$f":"SUM(D51:D53)","v":1}]
["835 62 81","Ventil til fordeler  1\"x 1\" utv.gj.",{"$f":"(C51+C52+C53)*2","v":2},2]
["835 62 82","Albue N 1\"x1\" m/frimutter lang side",{"$f":"C55","v":2},2]
["835 62 71","Modulfordeler gulvvarme   2 kurser 16mm",{"$f":"VLOOKUP(Salus!F8+Salus!G8,materialliste2!G$2:I$16,2,FALSE)","v":1},1]
["835 62 72","Modulfordeler gulvvarme   3 kurser 16mm",{"$f":"VLOOKUP(Salus!F8+Salus!G8,materialliste2!G$2:I$16,3,FALSE)","v":1},1]
["835 62 75","Modulfordeler gulvvarme   2 kurser 20mm",{"$f":"VLOOKUP(Salus!H8,materialliste2!G$2:I$16,2,FALSE)","v":0},0]
["835 62 76","Modulfordeler gulvvarme   3 kurser 20mm",{"$f":"VLOOKUP(Salus!H8,materialliste2!G$2:I$16,3,FALSE)","v":0},0]
["835 62 47","Endestykke,i par f. gulvvarmefordeler rød/blå",{"$f":"C51+C52+C53","v":1},1]
["511 21 22","Overgangsunion 16-12mm",{"$f":"Salus!F8*2","v":0},0]
["511 18 65","Kapp for kupling 16mm, blå plast",{"$f":"(((C57*2)+(C58*3))-(Salus!F8+Salus!G8))*2","v":0},0]
["511 18 66","Kapp for kupling 20mm, blå plast",{"$f":"(((C59*2)+(C60*3))-Salus!H8)*2","v":0},0]
[null,null,null,{"$f":"SUM(D55:D61)","v":7}]
["835 61 14","Rørføringsbend for 12mm rør",{"$f":"Salus!F8*2","v":0},0]
["835 61 15","Rørføringsbend for 16mm rør",{"$f":"Salus!G8*2","v":10},10]
["835 61 16","Rørføringsbend for 20mm rør",{"$f":"Salus!H8*2","v":0},0]
[null,null,null,{"$f":"SUM(D66:D68)","v":10}]
["835 60 38","Aktuator T30/230NC",{"$f":"Salus!L8","v":5},{"$f":"C70","v":5}]
["835 60 39","Trådløs Master 8 KL08",{"$f":"IF(Salus!M8=\"\",0,1)","v":1},1]
["835 60 41","Trådløs Master utbyggning  4 KL04",{"$f":"IF(Salus!M8<9,0,1)","v":0},0]
["835 60 67","Trådløs romtermostat Quantum, hvit",{"$f":"IF(Salus!$M$16=Data!H1,Salus!$M$8,0)","v":5},5]
["835 60 66","Trådløs romtermostat Quantum 230V, hvit",{"$f":"IF(Salus!$M$16=Data!H2,Salus!$M$8,0)","v":0},0]
["835 60 56","Trådløs Romtermostat analog hvit",{"$f":"IF(Salus!$M$16=Data!H3,Salus!$M$8,0)","v":0},0]
[null,null,null,{"$f":"SUM(D70:D72)","v":6}]
[null,{"$f":"Salus!E9","v":"Skap 3"},null,{"$f":"D81","v":0}]
["835 63 24","Fordelerskap      6  kurser, Arjonfloor",{"$f":"COUNTIFS(Salus!L9,\"<8\",Salus!L9,\">0\")","v":0},{"$f":"C78","v":0}]
["835 63 25","Fordelerskap    10  kurser, Arjonfloor",{"$f":"COUNTIFS(Salus!L9,\"<11\",Salus!L9,\">7\")","v":0},0]
["835 63 26","Fordelerskap    13  kurser, Arjonfloor",{"$f":"COUNTIFS(Salus!L9,\"<15\",Salus!L9,\">10\")","v":0},0]
[null,null,null,{"$f":"SUM(D78:D80)","v":0}]
["835 62 81","Ventil til fordeler  1\"x 1\" utv.gj.",{"$f":"(C78+C79+C80)*2","v":0},0]
["835 62 82","Albue N 1\"x1\" m/frimutter lang side",{"$f":"C82","v":0},0]
["835 62 71","Modulfordeler gulvvarme   2 kurser 16mm",{"$f":"VLOOKUP(Salus!F9+Salus!G9,materialliste2!G$2:I$16,2,FALSE)","v":0},0]
["835 62 72","Modulfordeler gulvvarme   3 kurser 16mm",{"$f":"VLOOKUP(Salus!F9+Salus!G9,materialliste2!G$2:I$16,3,FALSE)","v":0},0]
["835 62 75","Modulfordeler gulvvarme   2 kurser 20mm",{"$f":"VLOOKUP(Salus!H9,materialliste2!G$2:I$16,2,FALSE)","v":0},0]
["835 62 76","Modulfordeler gulvvarme   3 kurser 20mm",{"$f":"VLOOKUP(Salus!H9,materialliste2!G$2:I$16,3,FALSE)","v":0},0]
["835 62 47","Endestykke,i par f. gulvvarmefordeler rød/blå",{"$f":"C78+C79+C80","v":0},0]
["511 21 22","Overgangsunion 16-12mm",{"$f":"Salus!F9*2","v":0},0]
["511 18 65","Kapp for kupling 16mm, blå plast",{"$f":"(((C84*2)+(C85*3))-(Salus!F9+Salus!G9))*2","v":0},0]
["511 18 66","Kapp for kupling 20mm, blå plast",{"$f":"(((C86*2)+(C87*3))-Salus!H9)*2","v":0},0]
[null,null,null,{"$f":"SUM(D82:D88)","v":0}]
["835 61 14","Rørføringsbend for 12mm rør",{"$f":"Salus!F9*2","v":0},0]
["835 61 15","Rørføringsbend for 16mm rør",{"$f":"Salus!G9*2","v":0},0]
["835 61 16","Rørføringsbend for 20mm rør",{"$f":"Salus!H9*2","v":0},0]
[null,null,null,{"$f":"SUM(D93:D95)","v":0}]
["835 60 38","Aktuator T30/230NC",{"$f":"Salus!L9","v":0},{"$f":"C97","v":0}]
["835 60 39","Trådløs Master 8 KL08",{"$f":"IF(Salus!M9=\"\",0,1)","v":0},0]
["835 60 41","Trådløs Master utbyggning  4 KL04",{"$f":"IF(Salus!M9<9,0,1)","v":0},0]
["835 60 67","Trådløs romtermostat Quantum, hvit",{"$f":"IF(Salus!$M$16=Data!H1,Salus!$M$9,0)","v":0},0]
["835 60 66","Trådløs romtermostat Quantum 230V, hvit",{"$f":"IF(Salus!$M$16=Data!H2,Salus!$M$9,0)","v":0},0]
["835 60 56","Trådløs Romtermostat analog hvit",{"$f":"IF(Salus!$M$16=Data!H3,Salus!$M$9,0)","v":0},0]
[null,null,null,{"$f":"SUM(D97:D99)","v":0}]
[null,{"$f":"Salus!E10","v":"Skap 4"},null,{"$f":"D108","v":0}]
["835 63 24","Fordelerskap      6  kurser, Arjonfloor",{"$f":"COUNTIFS(Salus!L10,\"<8\",Salus!L10,\">0\")","v":0},{"$f":"C105","v":0}]
["835 63 25","Fordelerskap    10  kurser, Arjonfloor",{"$f":"COUNTIFS(Salus!L10,\"<11\",Salus!L10,\">7\")","v":0},0]
["835 63 26","Fordelerskap    13  kurser, Arjonfloor",{"$f":"COUNTIFS(Salus!L10,\"<15\",Salus!L10,\">10\")","v":0},0]
[null,null,null,{"$f":"SUM(D105:D107)","v":0}]
["835 62 81","Ventil til fordeler  1\"x 1\" utv.gj.",{"$f":"(C105+C106+C107)*2","v":0},0]
["835 62 82","Albue N 1\"x1\" m/frimutter lang side",{"$f":"C109","v":0},0]
["835 62 71","Modulfordeler gulvvarme   2 kurser 16mm",{"$f":"VLOOKUP(Salus!F10+Salus!G10,materialliste2!G$2:I$16,2,FALSE)","v":0},0]
["835 62 72","Modulfordeler gulvvarme   3 kurser 16mm",{"$f":"VLOOKUP(Salus!F10+Salus!G10,materialliste2!G$2:I$16,3,FALSE)","v":0},0]
["835 62 75","Modulfordeler gulvvarme   2 kurser 20mm",{"$f":"VLOOKUP(Salus!H10,materialliste2!G$2:I$16,2,FALSE)","v":0},0]
["835 62 76","Modulfordeler gulvvarme   3 kurser 20mm",{"$f":"VLOOKUP(Salus!H10,materialliste2!G$2:I$16,3,FALSE)","v":0},0]
["835 62 47","Endestykke,i par f. gulvvarmefordeler rød/blå",{"$f":"C105+C106+C107","v":0},0]
["511 21 22","Overgangsunion 16-12mm",{"$f":"Salus!F10*2","v":0},0]
["511 18 65","Kapp for kupling 16mm, blå plast",{"$f":"(((C111*2)+(C112*3))-(Salus!F10+Salus!G10))*2","v":0},0]
["511 18 66","Kapp for kupling 20mm, blå plast",{"$f":"(((C113*2)+(C114*3))-Salus!H10)*2","v":0},0]
[null,null,null,{"$f":"SUM(D109:D115)","v":0}]
["835 61 14","Rørføringsbend for 12mm rør",{"$f":"Salus!F10*2","v":0},0]
["835 61 15","Rørføringsbend for 16mm rør",{"$f":"Salus!G10*2","v":0},0]
["835 61 16","Rørføringsbend for 20mm rør",{"$f":"Salus!H10*2","v":0},0]
[null,null,null,{"$f":"SUM(D120:D122)","v":0}]
["835 60 38","Aktuator T30/230NC",{"$f":"Salus!L10","v":0},{"$f":"C124","v":0}]
["835 60 39","Trådløs Master 8 KL08",{"$f":"IF(Salus!M10=\"\",0,1)","v":0},0]
["835 60 41","Trådløs Master utbyggning  4 KL04",{"$f":"IF(Salus!M10<9,0,1)","v":0},0]
["835 60 67","Trådløs romtermostat Quantum, hvit",{"$f":"IF(Salus!$M$16=Data!H1,Salus!$M$10,0)","v":0},0]
["835 60 66","Trådløs romtermostat Quantum 230V, hvit",{"$f":"IF(Salus!$M$16=Data!H2,Salus!$M$10,0)","v":0},0]
["835 60 56","Trådløs Romtermostat analog hvit",{"$f":"IF(Salus!$M$16=Data!H3,Salus!$M$10,0)","v":0},0]
[null,null,null,{"$f":"SUM(D124:D126)","v":0}]
[null,{"$f":"Salus!E11","v":"Skap 5"},null,{"$f":"D135","v":0}]
["835 63 24","Fordelerskap      6  kurser, Arjonfloor",{"$f":"COUNTIFS(Salus!L11,\"<8\",Salus!L11,\">0\")","v":0},{"$f":"C132","v":0}]
["835 63 25","Fordelerskap    10  kurser, Arjonfloor",{"$f":"COUNTIFS(Salus!L11,\"<11\",Salus!L11,\">7\")","v":0},0]
["835 63 26","Fordelerskap    13  kurser, Arjonfloor",{"$f":"COUNTIFS(Salus!L11,\"<15\",Salus!L11,\">10\")","v":0},0]
[null,null,null,{"$f":"SUM(D132:D134)","v":0}]
["835 62 81","Ventil til fordeler  1\"x 1\" utv.gj.",{"$f":"(C132+C133+C134)*2","v":0},0]
["835 62 82","Albue N 1\"x1\" m/frimutter lang side",{"$f":"C136","v":0},0]
["835 62 71","Modulfordeler gulvvarme   2 kurser 16mm",{"$f":"VLOOKUP(Salus!F11+Salus!G11,materialliste2!G$2:I$16,2,FALSE)","v":0},0]
["835 62 72","Modulfordeler gulvvarme   3 kurser 16mm",{"$f":"VLOOKUP(Salus!F11+Salus!G11,materialliste2!G$2:I$16,3,FALSE)","v":0},0]
["835 62 75","Modulfordeler gulvvarme   2 kurser 20mm",{"$f":"VLOOKUP(Salus!H11,materialliste2!G$2:I$16,2,FALSE)","v":0},0]
["835 62 76","Modulfordeler gulvvarme   3 kurser 20mm",{"$f":"VLOOKUP(Salus!H11,materialliste2!G$2:I$16,3,FALSE)","v":0},0]
["835 62 47","Endestykke,i par f. gulvvarmefordeler rød/blå",{"$f":"C132+C133+C134","v":0},0]
["511 21 22","Overgangsunion 16-12mm",{"$f":"Salus!F11*2","v":0},0]
["511 18 65","Kapp for kupling 16mm, blå plast",{"$f":"(((C138*2)+(C139*3))-(Salus!F11+Salus!G11))*2","v":0},0]
["511 18 66","Kapp for kupling 20mm, blå plast",{"$f":"(((C140*2)+(C141*3))-Salus!H11)*2","v":0},0]
[null,null,null,{"$f":"SUM(D136:D142)","v":0}]
["835 61 14","Rørføringsbend for 12mm rør",{"$f":"Salus!F11*2","v":0},0]
["835 61 15","Rørføringsbend for 16mm rør",{"$f":"Salus!G11*2","v":0},0]
["835 61 16","Rørføringsbend for 20mm rør",{"$f":"Salus!H11*2","v":0},0]
[null,null,null,{"$f":"SUM(D147:D149)","v":0}]
["835 60 38","Aktuator T30/230NC",{"$f":"Salus!L11","v":0},{"$f":"C151","v":0}]
["835 60 39","Trådløs Master 8 KL08",{"$f":"IF(Salus!M11=\"\",0,1)","v":0},0]
["835 60 41","Trådløs Master utbyggning  4 KL04",{"$f":"IF(Salus!M11<9,0,1)","v":0},0]
["835 60 67","Trådløs romtermostat Quantum, hvit",{"$f":"IF(Salus!$M$16=Data!H1,Salus!$M$11,0)","v":0},0]
["835 60 66","Trådløs romtermostat Quantum 230V, hvit",{"$f":"IF(Salus!$M$16=Data!H2,Salus!$M$11,0)","v":0},0]
["835 60 56","Trådløs Romtermostat analog hvit",{"$f":"IF(Salus!$M$16=Data!H3,Salus!$M$11,0)","v":0},0]
[null,null,null,{"$f":"SUM(D151:D153)","v":0}]
[null,{"$f":"Salus!E12","v":"Skap 6"},null,{"$f":"D162","v":0}]
["835 63 24","Fordelerskap      6  kurser, Arjonfloor",{"$f":"COUNTIFS(Salus!L12,\"<8\",Salus!L12,\">0\")","v":0},{"$f":"C159","v":0}]
["835 63 25","Fordelerskap    10  kurser, Arjonfloor",{"$f":"COUNTIFS(Salus!L12,\"<11\",Salus!L12,\">7\")","v":0},0]
["835 63 26","Fordelerskap    13  kurser, Arjonfloor",{"$f":"COUNTIFS(Salus!L12,\"<15\",Salus!L12,\">10\")","v":0},0]
[null,null,null,{"$f":"SUM(D159:D161)","v":0}]
["835 62 81","Ventil til fordeler  1\"x 1\" utv.gj.",{"$f":"(C159+C160+C161)*2","v":0},0]
["835 62 82","Albue N 1\"x1\" m/frimutter lang side",{"$f":"C163","v":0},0]
["835 62 71","Modulfordeler gulvvarme   2 kurser 16mm",{"$f":"VLOOKUP(Salus!F12+Salus!G12,materialliste2!G$2:I$16,2,FALSE)","v":0},0]
["835 62 72","Modulfordeler gulvvarme   3 kurser 16mm",{"$f":"VLOOKUP(Salus!F12+Salus!G12,materialliste2!G$2:I$16,3,FALSE)","v":0},0]
["835 62 75","Modulfordeler gulvvarme   2 kurser 20mm",{"$f":"VLOOKUP(Salus!H12,materialliste2!G$2:I$16,2,FALSE)","v":0},0]
["835 62 76","Modulfordeler gulvvarme   3 kurser 20mm",{"$f":"VLOOKUP(Salus!H12,materialliste2!G$2:I$16,3,FALSE)","v":0},0]
["835 62 47","Endestykke,i par f. gulvvarmefordeler rød/blå",{"$f":"C159+C160+C161","v":0},0]
["511 21 22","Overgangsunion 16-12mm",{"$f":"Salus!F12*2","v":0},0]
["511 18 65","Kapp for kupling 16mm, blå plast",{"$f":"(((C165*2)+(C166*3))-(Salus!F12+Salus!G12))*2","v":0},0]
["511 18 66","Kapp for kupling 20mm, blå plast",{"$f":"(((C167*2)+(C168*3))-Salus!H12)*2","v":0},0]
[null,null,null,{"$f":"SUM(D163:D169)","v":0}]
["835 61 14","Rørføringsbend for 12mm rør",{"$f":"Salus!F12*2","v":0},0]
["835 61 15","Rørføringsbend for 16mm rør",{"$f":"Salus!G12*2","v":0},0]
["835 61 16","Rørføringsbend for 20mm rør",{"$f":"Salus!H12*2","v":0},0]
[null,null,null,{"$f":"SUM(D174:D176)","v":0}]
["835 60 38","Aktuator T30/230NC",{"$f":"Salus!L12","v":0},{"$f":"C178","v":0}]
["835 60 39","Trådløs Master 8 KL08",{"$f":"IF(Salus!M12=\"\",0,1)","v":0},0]
["835 60 41","Trådløs Master utbyggning  4 KL04",{"$f":"IF(Salus!M12<9,0,1)","v":0},0]
["835 60 67","Trådløs romtermostat Quantum, hvit",{"$f":"IF(Salus!$M$16=Data!H1,Salus!$M$12,0)","v":0},0]
["835 60 66","Trådløs romtermostat Quantum 230V, hvit",{"$f":"IF(Salus!$M$16=Data!H2,Salus!$M$12,0)","v":0},0]
["835 60 56","Trådløs Romtermostat analog hvit",{"$f":"IF(Salus!$M$16=Data!H3,Salus!$M$12,0)","v":0},0]
[null,null,null,{"$f":"SUM(D178:D180)","v":0}]

{"sheet":"Data","index":2,"n_rows":48,"n_cols":11,"rows_kept":48,"cut":false,"hidden":true,"merged":[]}
["NRF","Artikkel",null,"Antall/m² ",null,null,"Ja","Trådløs (Batteri)","Skap 1",null,"Hvit, batteridrevet, digital"]
["835 60 01","Gulvvarmerør 12x1.7 pex - 100m, Arjonfloor",null,8.5,null,null,"Nei","Kablet (230V)","Skap 2",null,"Hvit, 230V, digital, kablet strømtilførsel"]
["835 60 04","Gulvvarmerør 16x1.8 pex - 600m, Arjonfloor",null,5.5,null,null,null,"Analog (Batteri)","Skap 3",null,"Svart, batteridrevet, digital"]
["835 60 05","Gulvvarmerør 20x2.0 pex - 500m, Arjonfloor",null,3.5,null,null,null,null,"Skap 4",null,"Svart, 230V, digital, kablet strømtilførsel"]
[null,null,null,null,null,null,null,null,"Skap 5",null,"Hvit, batteridrevet, analog"]
["835 60 23","Kompakt m/vendespor 12/125/13x750x1175",null,1.1000000000000001,null,null,null,null,"Skap 6"]
["835 60 26","Kompakt m/vendespor 16/192/17x768x1175",null,1.1000000000000001]
[]
["835 61 43","EPS-plate m/alum. 16/192/25x768x1175. Easy",null,1.1000000000000001]
["835 61 44","EPS-plate m/alum. 16/192/50x768x1175, Easy",null,1.1000000000000001]
[]
["835 61 01","Festeskinne 12-22 mm, L=1m",null,1]
["835 61 03","Festeklips 16-20mm, lengde 60mm",null,8]
["835 61 11","Festeklips festeskinne 16-20mm",null,3]
["835 61 04","Festeklips 12mm",null,8]
[]
["835 61 47","Alu-plate 1/16/190/1150",null,{"$f":"0.85*4.35","v":3.6974999999999998}]
["835 61 48","Alu-plate 1/20/280/1150",null,2.5499999999999998]
[]
[]
["835 63 24","Fordelerskap      6  kurser, Arjonfloor"]
["835 63 25","Fordelerskap    10  kurser, Arjonfloor"]
["835 63 26","Fordelerskap    13  kurser, Arjonfloor"]
[]
["835 62 81","Ventil til fordeler  1\"x 1\" utv.gj."]
["835 62 82","Albue N 1\"x1\" m/frimutter lang side"]
[null,"Snittpris pr kurs"]
["835 62 71","Modulfordeler gulvvarme   2 kurser 16mm"]
["835 62 72","Modulfordeler gulvvarme   3 kurser 16mm"]
["835 62 75","Modulfordeler gulvvarme   2 kurser 20mm"]
["835 62 76","Modulfordeler gulvvarme   3 kurser 20mm"]
["835 62 47","Endestykke,i par f. gulvvarmefordeler rød/blå"]
[]
[null,"innmat minus fordelere"]
[null,"snittpris bend pr par"]
[]
["835 61 14","Rørføringsbend for 12mm rør"]
["835 61 15","Rørføringsbend for 16mm rør"]
["835 61 16","Rørføringsbend for 20mm rør"]
[]
["835 60 38","Aktuator T30/230NC"]
["835 60 39","Trådløs Master 8 KL08"]
["835 60 41","Trådløs Master utbyggning  4 KL04"]
["835 60 42","Trådløs Romtermostat Hvit VS20"]
["835 60 43","Trådløs Romtermostat Sort VS20"]
["835 60 48","Trådløs Romtermostat digital Sort 230 V"]
["835 60 49","Trådløs Romtermostat digital Hvit 230 V"]
["835 60 46","Universal nettverksport"]

{"sheet":"Salus_material","index":3,"n_rows":26,"n_cols":4,"rows_kept":26,"cut":false,"hidden":false,"merged":[]}
[]
[]
["NRF","Artikkel","Antall"]
["835 60 04","Gulvvarmerør 16x1.8 pex - 600m, Arjonfloor",275,275]
[null,null,null,275]
["835 61 01","Festeskinne 12-22 mm, L=1m",50,50]
["835 61 03","Festeklips 16-20mm, lengde 60mm",400,400]
["835 61 11","Festeklips festeskinne 16-20mm",150,150]
[]
[null,null,null,1150]
[]
[null,"Skap 2",null,1]
["835 63 24","Fordelerskap      6  kurser, Arjonfloor",1,1]
[null,null,null,1]
["835 62 81","Ventil til fordeler  1\"x 1\" utv.gj.",2,2]
["835 62 82","Albue N 1\"x1\" m/frimutter lang side",2,2]
["835 62 71","Modulfordeler gulvvarme   2 kurser 16mm",1,1]
["835 62 72","Modulfordeler gulvvarme   3 kurser 16mm",1,1]
["835 62 47","Endestykke,i par f. gulvvarmefordeler rød/blå",1,1]
[null,null,null,7]
["835 61 15","Rørføringsbend for 16mm rør",10,10]
[null,null,null,10]
["835 60 38","Aktuator T30/230NC",5,5]
["835 60 39","Trådløs Master 8 KL08",1,1]
["835 60 67","Trådløs romtermostat Quantum, hvit",5,5]
[null,null,null,6]

{"sheet":"Xlsx_print","index":4,"n_rows":0,"n_cols":0,"rows_kept":0,"cut":false,"hidden":true,"merged":[]}

{"sheet":"Sammendrag","index":5,"n_rows":46,"n_cols":4,"rows_kept":46,"cut":false,"hidden":true,"merged":[[1,1,1,4],[24,1,24,3],[45,0,47,5]]}
[]
["Prosjektnavn",{"$f":"Salus!B2","v":0}]
[]
["Rør og festemateriell"]
[null,null,"Areal"]
["12mm rør i Kompaktplater 13mm EPS",null,{"$f":"Salus!B7","v":0}]
["16mm rør i Kompaktplater 17mm EPS",null,{"$f":"Salus!B8","v":0}]
[]
["16mm rør i Easy-plater 25mm EPS",null,{"$f":"Salus!B10","v":0}]
["16mm rør i Easy-plater 50mm EPS",null,{"$f":"Salus!B11","v":0}]
[]
["12mm i festeskinner på isolasjon",null,{"$f":"Salus!B13","v":0}]
["16mm i festeskinner på isolasjon",null,{"$f":"Salus!B14","v":50}]
["20mm i festeskinner på isolasjon",null,{"$f":"Salus!B15","v":0}]
[]
["16mm rør i aluminiumsplater",null,{"$f":"Salus!B17","v":0}]
["20mm rør i aluminiumsplater",null,{"$f":"Salus!B18","v":0}]
[]
["12mm rør uten festemateriell",null,{"$f":"Salus!B20","v":0}]
["16mm rør uten festemateriell",null,{"$f":"Salus!B21","v":0}]
["20mm rør uten festemateriell",null,{"$f":"Salus!B22","v":0}]
[]
[]
["Skap og fordelere"]
[null,"Antall kurser"]
[null,"12mm","16mm","20mm"]
[{"$f":"Salus!E7","v":"Skap 1"},{"$f":"Salus!F7","v":0},{"$f":"Salus!G7","v":0},{"$f":"Salus!H7","v":0}]
[{"$f":"Salus!E8","v":"Skap 2"},{"$f":"Salus!F8","v":0},{"$f":"Salus!G8","v":5},{"$f":"Salus!H8","v":0}]
[{"$f":"Salus!E9","v":"Skap 3"},{"$f":"Salus!F9","v":0},{"$f":"Salus!G9","v":0},{"$f":"Salus!H9","v":0}]
[{"$f":"Salus!E10","v":"Skap 4"},{"$f":"Salus!F10","v":0},{"$f":"Salus!G10","v":0},{"$f":"Salus!H10","v":0}]
[{"$f":"Salus!E11","v":"Skap 5"},{"$f":"Salus!F11","v":0},{"$f":"Salus!G11","v":0},{"$f":"Salus!H11","v":0}]
[{"$f":"Salus!E12","v":"Skap 6"},{"$f":"Salus!F12","v":0},{"$f":"Salus!G12","v":0},{"$f":"Salus!H12","v":0}]
[]
[]
["Styring"]
[null,"Antall kurser","Antall soner"]
[{"$f":"Salus!E7","v":"Skap 1"},{"$f":"Salus!L7","v":0},{"$f":"Salus!M7","v":0}]
[{"$f":"Salus!E8","v":"Skap 2"},{"$f":"Salus!L8","v":5},{"$f":"Salus!M8","v":5}]
[{"$f":"Salus!E9","v":"Skap 3"},{"$f":"Salus!L9","v":0},{"$f":"Salus!M9","v":0}]
[{"$f":"Salus!E10","v":"Skap 4"},{"$f":"Salus!L10","v":0},{"$f":"Salus!M10","v":0}]
[{"$f":"Salus!E11","v":"Skap 5"},{"$f":"Salus!L11","v":0},{"$f":"Salus!M11","v":0}]
[{"$f":"Salus!E12","v":"Skap 6"},{"$f":"Salus!L12","v":0},{"$f":"Salus!M12","v":0}]
[]
["Styring via app?",{"$f":"Salus!M14","v":"Nei"}]
[]
["Dette arket er laget for å gi et overslag på materialforbruk ved bruk av Arjonfloor gulvvarme fra Armaturjonsson AS. Armaturjonsson AS står ikke ansvarlig for eventuelle mangler eller feil."]