{"text_format":"1","workbook":"xlsx","n_sheets":7,"sheets":["Salus","materialliste2","Data","Salus_material","Xlsx_print","Sammendrag","Ark1"],"not_rendered":{"charts":0,"images":2,"macros":1,"external_links":0,"defined_names":5,"comments":0,"pivot_tables":0},"unopened":[],"bounds":{"document_bytes":16777216,"sheet_cells":100000,"rows_first":2000,"rows_last":500,"rows_between":2000,"halvings":0,"cell_chars":16384,"cell_head_chars":4096},"cells_cut":0,"cells_raw":0,"read":"whole","date_system":"1900"}

{"sheet":"Salus","index":0,"n_rows":22,"n_cols":13,"rows_kept":22,"cut":false,"hidden":false,"merged":[[20,4,29,13],[4,5,4,7],[1,6,2,13],[1,1,1,5],[18,10,18,12]]}
[]
["Prosjektnavn"]
[]
["Rør og festemateriell",null,null,null,"Skap og fordelere",null,null,null,null,null,"Styring"]
[null,null,null,null,null,"Antall kurser"]
[null,"Areal",null,null,null,"12mm","16mm","20mm",null,null,null,"Antall kurser","Antall soner"]
["12mm rør i Kompaktplater 13mm EPS",null,null,null,"Skap 1",null,null,null,null,null,{"$f":"E7","v":"Skap 1"},{"$f":"SUM(F7:H7)","v":0}]
["16mm rør i Kompaktplater 17mm EPS",null,null,null,"Skap 2",null,null,null,null,null,{"$f":"E8","v":"Skap 2"},{"$f":"SUM(F8:H8)","v":0}]
[null,null,null,null,"Skap 3",null,null,null,null,null,"Skap 3",0]
["16mm rør i Easy-plater 25mm EPS",null,null,null,"Skap 4",null,null,null,null,null,"Skap 4",0]
["16mm rør i Easy-plater 50mm EPS",null,null,null,"Skap 5",null,null,null,null,null,"Skap 5",0]
[null,null,null,null,"Skap 6",null,null,null,null,null,"Skap 6",0]
["12mm i festeskinner på isolasjon"]
["16mm i festeskinner på isolasjon",null,null,null,null,null,null,null,null,null,"Styring via app?"]
["20mm i festeskinner på isolasjon"]
[null,null,null,null,null,null,null,null,null,null,"Type termostat",null,"Hvit, batteridrevet, digital"]
["16mm rør i aluminiumsplater"]
["20mm rør i aluminiumsplater"]
[null,null,null,null,null,null,null,null,null,null,"For informasjon om ulike termostater, klikk her."]
["12mm rør uten festemateriell"]
["16mm rør uten festemateriell",null,null,null,"Dette arket er laget for å gi et overslag på materialforbruk ved bruk av Armaturjonsson Gulvvarme fra Armaturjonsson AS. Armaturjonsson AS står ikke ansvarlig for eventuelle mangler eller feil."]
["20mm rør uten festemateriell"]

{"sheet":"materialliste2","index":1,"n_rows":248,"n_cols":4,"rows_kept":248,"cut":false,"hidden":true,"merged":[]}
["NRF","Artikkel","Antall"]
["137 28 81","Gulvvarmerør 12x21.5 PE-RT - 150 m",{"$f":"(Salus!B7+Salus!B13+Salus!B20)*8.5","v":0},{"$f":"C2","v":0}]
["137 28 83","Gulvvarmerør 16x2.0 PE-RT - 600 m",{"$f":"(Salus!B8+Salus!B10+Salus!B11+Salus!B14+Salus!B17+Salus!B21)*5.5","v":0},{"$f":"C3","v":0}]
["137 28 85","Gulvvarmerør 20x2.0 PE-RT - 500 m",{"$f":"(Salus!B15+Salus!B18+Salus!B22)*3.5","v":0},0]
[null,null,null,{"$f":"SUM(D2:D4)","v":0}]
["835 60 23","Kompakt m/vendespor 12/125/13x750x1175",{"$f":"Salus!B7*1.14","v":0},0]
["835 60 26","Kompakt m/vendespor 16/192/17x768x1175",{"$f":"Salus!B8*1.1","v":0},0]
[null,null,null,{"$f":"SUM(D6:D7)","v":0}]
["835 61 43","EPS-plate m/alum. 16/192/25x768x1175. Easy",{"$f":"Salus!B10*1.1","v":0},0]
["835 61 44","EPS-plate m/alum. 16/192/50x768x1175, Easy",{"$f":"Salus!B11*1.1","v":0},0]
[null,null,null,{"$f":"SUM(D9:D10)","v":0}]
["835 61 01","Festeskinne 12-22 mm, L=1m",{"$f":"Salus!B13+Salus!B14+Salus!B15","v":0},0]
["835 61 03","Festeklips 16-20mm, lengde 60mm",{"$f":"(Salus!B14+Salus!B15)*8","v":0},0]
["835 61 11","Festeklips festeskinne 16-20mm",{"$f":"C12*3","v":0},0]
["835 61 04","Festeklips 12mm",{"$f":"Salus!B13*8","v":0},0]
[]
["835 61 47","Alu-plate 1/16/190/1150",{"$f":"Salus!B17*0.85*4.35","v":0},0]
["835 61 48","Alu-plate 1/20/280/1150",{"$f":"Salus!B18*2.55","v":0},0]
[null,null,null,{"$f":"SUM(D17:D18)","v":0}]
["835 60 46","Universal nettverksport",{"$f":"IF(Salus!M14=Data!G1,1,0)","v":0},{"$f":"C20","v":0}]
[null,null,null,{"$f":"SUM(D2:D20)","v":0}]
[null,{"$f":"Salus!E7","v":"Skap 1"},null,{"$f":"D41","v":0}]
["138 21 22","Gulvvarmeskap - 6 kurser, Arjonfloor",{"$f":"COUNTIFS(Salus!L7,\"<7\",Salus!L7,\">0\")","v":0},{"$f":"C23","v":0}]
["138 21 23","Gulvvarmeskap - 11 kurser, Arjonfloor",{"$f":"COUNTIFS(Salus!L7,\"<12\",Salus!L7,\">6\")","v":0},0]
["138 21 24","Gulvvarmeskap - 14 kurser, Arjonfloor",{"$f":"COUNTIFS(Salus!L7,\"<15\",Salus!L7,\">11\")","v":0},0]
[null,null,null,{"$f":"SUM(D23:D25)","v":0}]
["137 30 16","Gulvvarmefordeler 2 kurser",{"$f":"IF(Salus!F7+Salus!G7+Salus!H7=2, 1, 0)","v":0},{"$f":"C27","v":0}]
["137 30 17","Gulvvarmefordeler 3 kurser",{"$f":"IF(Salus!F7+Salus!G7+Salus!H7=3, 1, 0)","v":0},{"$f":"C28","v":0}]
["137 30 18","Gulvvarmefordeler 4 kurser",{"$f":"IF(Salus!F7+Salus!G7+Salus!H7=4, 1, 0)","v":0},0]
["137 30 19","Gulvvarmefordeler 5 kurser",{"$f":"IF(Salus!F7+Salus!G7+Salus!H7=5, 1, 0)","v":0},0]
["137 30 20","Gulvvarmefordeler 6 kurser",{"$f":"IF(Salus!F7+Salus!G7+Salus!H7=6, 1, 0)","v":0},0]
["137 30 21","Gulvvarmefordeler 7 kurser",{"$f":"IF(Salus!F7+Salus!G7+Salus!H7=7, 1, 0)","v":0},0]
["137 30 22","Gulvvarmefordeler 8 kurser",{"$f":"IF(Salus!F7+Salus!G7+Salus!H7=8, 1, 0)","v":0},0]
["137 30 23","Gulvvarmefordeler 9 kurser",{"$f":"IF(Salus!F7+Salus!G7+Salus!H7=9, 1, 0)","v":0},0]
["137 30 24","Gulvvarmefordeler 10 kurser",{"$f":"IF(Salus!F7+Salus!G7+Salus!H7=10, 1, 0)","v":0},0]
["137 30 25","Gulvvarmefordeler 11 kurser",{"$f":"IF(Salus!F7+Salus!G7+Salus!H7=11, 1, 0)","v":0},0]
["137 30 26","Gulvvarmefordeler 12 kurser",{"$f":"IF(Salus!F7+Salus!G7+Salus!H7=12, 1, 0)","v":0},0]
["137 30 27","Gulvvarmefordeler 13 kurser",{"$f":"IF(Salus!F7+Salus!G7+Salus!H7=13, 1, 0)","v":0},0]
["137 30 28","Gulvvarmefordeler 14 kurser",{"$f":"IF(Salus!F7+Salus!G7+Salus!H7=14, 1, 0)","v":0},0]
["137 30 29","Gulvvarmefordeler 15 kurser",{"$f":"IF(Salus!F7+Salus!G7+Salus!H7=15, 1, 0)","v":0},0]
[null,null,null,{"$f":"SUM(D27:D40)","v":0}]
["137 30 13","Kuplingssett 12x1.5x3/4\" (2 stk)",{"$f":"Salus!F7","v":0},{"$f":"C42","v":0}]
["137 30 14","Kuplingssett 16x2.0x3/4\" (2 stk)",{"$f":"Salus!G7","v":0},{"$f":"C43","v":0}]
["137 30 15","Kuplingssett 20x2.0x3/4\" (2 stk)",{"$f":"Salus!H7","v":0},0]
[]
["835 61 14","Rørføringsbend for 12mm rør",{"$f":"Salus!F7*2","v":0},0]
["835 61 15","Rørføringsbend for 16mm rør",{"$f":"Salus!G7*2","v":0},0]
["835 61 16","Rørføringsbend for 20mm rør",{"$f":"Salus!H7*2","v":0},0]
[null,null,null,{"$f":"SUM(D46:D48)","v":0}]
["835 60 38","Aktuator T30/230NC",{"$f":"Salus!L7","v":0},0]
["835 60 39","Trådløs Master 8 KL08",{"$f":"IF(Salus!M7=\"\",0,1)","v":0},0]
["835 60 41","Trådløs Master utbyggning  4 KL04",{"$f":"IF(Salus!M7<9,0,1)","v":0},0]
[]
["835 60 67","Trådløs romtermostat Quantum, hvit",{"$f":"IF(Salus!$M$16=Data!$K$1,Salus!M7,0)","v":0},0]
["835 60 77","Trådløs romtermostat Quantum, sort",{"$f":"IF(Salus!$M$16=Data!$K$3,Salus!M7,0)","v":0},0]
["835 60 66","Trådløs romtermostat Quantum 230V, hvit",{"$f":"IF(Salus!$M$16=Data!$K$2,Salus!M7,0)","v":0},0]
["835 60 78","Trådløs romtermostat Quantum 230V, sort",{"$f":"IF(Salus!$M$16=Data!$K$4,Salus!M7,0)","v":0},0]
["835 60 56","Trådløs romtermostat analog, hvit",{"$f":"IF(Salus!$M$16=Data!$K$5,Salus!M7,0)","v":0},0]
[null,null,null,{"$f":"SUM(D46:D58)","v":0}]
[null,{"$f":"Salus!E8","v":"Skap 2"},null,{"$f":"D64","v":0}]
["138 21 22","Gulvvarmeskap - 6 kurser, Arjonfloor",{"$f":"COUNTIFS(Salus!L8,\"<7\",Salus!L8,\">0\")","v":0},{"$f":"C61","v":0}]
["138 21 23","Gulvvarmeskap - 11 kurser, Arjonfloor",{"$f":"COUNTIFS(Salus!L8,\"<12\",Salus!L8,\">6\")","v":0},0]
["138 21 24","Gulvvarmeskap - 14 kurser, Arjonfloor",{"$f":"COUNTIFS(Salus!L8,\"<15\",Salus!L8,\">11\")","v":0},0]
[null,null,null,{"$f":"SUM(D61:D63)","v":0}]
["137 30 16","Gulvvarmefordeler 2 kurser",{"$f":"IF(Salus!F8+Salus!G8+Salus!H8=2, 1, 0)","v":0},{"$f":"C65","v":0}]
["137 30 17","Gulvvarmefordeler 3 kurser",{"$f":"IF(Salus!F8+Salus!G8+Salus!H8=3, 1, 0)","v":0},{"$f":"C66","v":0}]
["137 30 18","Gulvvarmefordeler 4 kurser",{"$f":"IF(Salus!F8+Salus!G8+Salus!H8=4, 1, 0)","v":0},0]
["137 30 19","Gulvvarmefordeler 5 kurser",{"$f":"IF(Salus!F8+Salus!G8+Salus!H8=5, 1, 0)","v":0},0]
["137 30 20","Gulvvarmefordeler 6 kurser",{"$f":"IF(Salus!F8+Salus!G8+Salus!H8=6, 1, 0)","v":0},0]
["137 30 21","Gulvvarmefordeler 7 kurser",{"$f":"IF(Salus!F8+Salus!G8+Salus!H8=7, 1, 0)","v":0},0]
["137 30 22","Gulvvarmefordeler 8 kurser",{"$f":"IF(Salus!F8+Salus!G8+Salus!H8=8, 1, 0)","v":0},0]
["137 30 23","Gulvvarmefordeler 9 kurser",{"$f":"IF(Salus!F8+Salus!G8+Salus!H8=9, 1, 0)","v":0},0]
["137 30 24","Gulvvarmefordeler 10 kurser",{"$f":"IF(Salus!F8+Salus!G8+Salus!H8=10, 1, 0)","v":0},0]
["137 30 25","Gulvvarmefordeler 11 kurser",{"$f":"IF(Salus!F8+Salus!G8+Salus!H8=11, 1, 0)","v":0},0]
["137 30 26","Gulvvarmefordeler 12 kurser",{"$f":"IF(Salus!F8+Salus!G8+Salus!H8=12, 1, 0)","v":0},0]
["137 30 27","Gulvvarmefordeler 13 kurser",{"$f":"IF(Salus!F8+Salus!G8+Salus!H8=13, 1, 0)","v":0},0]
["137 30 28","Gulvvarmefordeler 14 kurser",{"$f":"IF(Salus!F8+Salus!G8+Salus!H8=14, 1, 0)","v":0},0]
["137 30 29","Gulvvarmefordeler 15 kurser",{"$f":"IF(Salus!F8+Salus!G8+Salus!H8=15, 1, 0)","v":0},0]
[null,null,null,{"$f":"SUM(D65:D78)","v":0}]
["137 30 13","Kuplingssett 12x1.5x3/4\" (2 stk)",{"$f":"Salus!F8","v":0},{"$f":"C80","v":0}]
["137 30 14","Kuplingssett 16x2.0x3/4\" (2 stk)",{"$f":"Salus!G8","v":0},{"$f":"C81","v":0}]
["137 30 15","Kuplingssett 20x2.0x3/4\" (2 stk)",{"$f":"Salus!H8","v":0},0]
[]
["835 61 14","Rørføringsbend for 12mm rør",{"$f":"Salus!F8*2","v":0},{"$f":"C84","v":0}]
["835 61 15","Rørføringsbend for 16mm rør",{"$f":"Salus!G8*2","v":0},0]
["835 61 16","Rørføringsbend for 20mm rør",{"$f":"Salus!H8*2","v":0},0]
[null,null,null,{"$f":"SUM(D84:D86)","v":0}]
["835 60 38","Aktuator T30/230NC",{"$f":"Salus!L8","v":0},{"$f":"C88","v":0}]
["835 60 39","Trådløs Master 8 KL08",{"$f":"IF(Salus!M8=\"\",0,1)","v":0},0]
["835 60 41","Trådløs Master utbyggning  4 KL04",{"$f":"IF(Salus!M8<9,0,1)","v":0},0]
[]
["835 60 67","Trådløs romtermostat Quantum, hvit",{"$f":"IF(Salus!$M$16=Data!$K$1,Salus!M8,0)","v":0},{"$f":"C92","v":0}]
["835 60 77","Trådløs romtermostat Quantum, sort",{"$f":"IF(Salus!$M$16=Data!$K$3,Salus!M8,0)","v":0},0]
["835 60 66","Trådløs romtermostat Quantum 230V, hvit",{"$f":"IF(Salus!$M$16=Data!$K$2,Salus!M8,0)","v":0},0]
["835 60 78","Trådløs romtermostat Quantum 230V, sort",{"$f":"IF(Salus!$M$16=Data!$K$4,Salus!M8,0)","v":0},0]
["835 60 56","Trådløs romtermostat analog, hvit",{"$f":"IF(Salus!$M$16=Data!$K$5,Salus!M8,0)","v":0},0]
[]
[null,{"$f":"Salus!E9","v":"Skap 3"},null,{"$f":"D102","v":0}]
["138 21 22","Gulvvarmeskap - 6 kurser, Arjonfloor",{"$f":"COUNTIFS(Salus!L9,\"<7\",Salus!L9,\">0\")","v":0},{"$f":"C99","v":0}]
["138 21 23","Gulvvarmeskap - 11 kurser, Arjonfloor",{"$f":"COUNTIFS(Salus!L9,\"<12\",Salus!L9,\">6\")","v":0},0]
["138 21 24","Gulvvarmeskap - 14 kurser, Arjonfloor",{"$f":"COUNTIFS(Salus!L9,\"<15\",Salus!L9,\">11\")","v":0},0]
[null,null,null,{"$f":"SUM(D99:D101)","v":0}]
["137 30 16","Gulvvarmefordeler 2 kurser",{"$f":"IF(Salus!F9+Salus!G9+Salus!H9=2, 1, 0)","v":0},{"$f":"C103","v":0}]
["137 30 17","Gulvvarmefordeler 3 kurser",{"$f":"IF(Salus!F9+Salus!G9+Salus!H9=3, 1, 0)","v":0},{"$f":"C104","v":0}]
["137 30 18","Gulvvarmefordeler 4 kurser",{"$f":"IF(Salus!F9+Salus!G9+Salus!H9=4, 1, 0)","v":0},0]
["137 30 19","Gulvvarmefordeler 5 kurser",{"$f":"IF(Salus!F9+Salus!G9+Salus!H9=5, 1, 0)","v":0},0]
["137 30 20","Gulvvarmefordeler 6 kurser",{"$f":"IF(Salus!F9+Salus!G9+Salus!H9=6, 1, 0)","v":0},0]
["137 30 21","Gulvvarmefordeler 7 kurser",{"$f":"IF(Salus!F9+Salus!G9+Salus!H9=7, 1, 0)","v":0},0]
["137 30 22","Gulvvarmefordeler 8 kurser",{"$f":"IF(Salus!F9+Salus!G9+Salus!H9=8, 1, 0)","v":0},0]
["137 30 23","Gulvvarmefordeler 9 kurser",{"$f":"IF(Salus!F9+Salus!G9+Salus!H9=9, 1, 0)","v":0},0]
["137 30 24","Gulvvarmefordeler 10 kurser",{"$f":"IF(Salus!F9+Salus!G9+Salus!H9=10, 1, 0)","v":0},0]
["137 30 25","Gulvvarmefordeler 11 kurser",{"$f":"IF(Salus!F9+Salus!G9+Salus!H9=11, 1, 0)","v":0},0]
["137 30 26","Gulvvarmefordeler 12 kurser",{"$f":"IF(Salus!F9+Salus!G9+Salus!H9=12, 1, 0)","v":0},0]
["137 30 27","Gulvvarmefordeler 13 kurser",{"$f":"IF(Salus!F9+Salus!G9+Salus!H9=13, 1, 0)","v":0},0]
["137 30 28","Gulvvarmefordeler 14 kurser",{"$f":"IF(Salus!F9+Salus!G9+Salus!H9=14, 1, 0)","v":0},0]
["137 30 29","Gulvvarmefordeler 15 kurser",{"$f":"IF(Salus!F9+Salus!G9+Salus!H9=15, 1, 0)","v":0},0]
[null,null,null,{"$f":"SUM(D103:D116)","v":0}]
["137 30 13","Kuplingssett 12x1.5x3/4\" (2 stk)",{"$f":"Salus!F9","v":0},{"$f":"C118","v":0}]
["137 30 14","Kuplingssett 16x2.0x3/4\" (2 stk)",{"$f":"Salus!G9","v":0},{"$f":"C119","v":0}]
["137 30 15","Kuplingssett 20x2.0x3/4\" (2 stk)",{"$f":"Salus!H9","v":0},0]
[]
["835 61 14","Rørføringsbend for 12mm rør",{"$f":"Salus!F9*2","v":0},{"$f":"C122","v":0}]
["835 61 15","Rørføringsbend for 16mm rør",{"$f":"Salus!G9*2","v":0},0]
["835 61 16","Rørføringsbend for 20mm rør",{"$f":"Salus!H9*2","v":0},0]
[null,null,null,{"$f":"SUM(D122:D124)","v":0}]
["835 60 38","Aktuator T30/230NC",{"$f":"Salus!L9","v":0},{"$f":"C126","v":0}]
["835 60 39","Trådløs Master 8 KL08",{"$f":"IF(Salus!M9=\"\",0,1)","v":0},0]
["835 60 41","Trådløs Master utbyggning  4 KL04",{"$f":"IF(Salus!M9<9,0,1)","v":0},0]
[]
["835 60 67","Trådløs romtermostat Quantum, hvit",{"$f":"IF(Salus!$M$16=Data!$K$1,Salus!M9,0)","v":0},{"$f":"C130","v":0}]
["835 60 77","Trådløs romtermostat Quantum, sort",{"$f":"IF(Salus!$M$16=Data!$K$3,Salus!M9,0)","v":0},0]
["835 60 66","Trådløs romtermostat Quantum 230V, hvit",{"$f":"IF(Salus!$M$16=Data!$K$2,Salus!M9,0)","v":0},0]
["835 60 78","Trådløs romtermostat Quantum 230V, sort",{"$f":"IF(Salus!$M$16=Data!$K$4,Salus!M9,0)","v":0},0]
["835 60 56","Trådløs romtermostat analog, hvit",{"$f":"IF(Salus!$M$16=Data!$K$5,Salus!M9,0)","v":0},0]
[]
[null,{"$f":"Salus!E10","v":"Skap 4"}]
["138 21 22","Gulvvarmeskap - 6 kurser, Arjonfloor",{"$f":"COUNTIFS(Salus!L110,\"<7\",Salus!L10,\">0\")","v":0},{"$f":"C137","v":0}]
["138 21 23","Gulvvarmeskap - 11 kurser, Arjonfloor",{"$f":"COUNTIFS(Salus!L10,\"<12\",Salus!L10,\">6\")","v":0},0]
["138 21 24","Gulvvarmeskap - 14 kurser, Arjonfloor",{"$f":"COUNTIFS(Salus!L10,\"<15\",Salus!L10,\">11\")","v":0},0]
[null,null,null,{"$f":"SUM(D137:D139)","v":0}]
["137 30 16","Gulvvarmefordeler 2 kurser",{"$f":"IF(Salus!F10+Salus!G10+Salus!H10=2, 1, 0)","v":0},{"$f":"C141","v":0}]
["137 30 17","Gulvvarmefordeler 3 kurser",{"$f":"IF(Salus!F10+Salus!G10+Salus!H10=3, 1, 0)","v":0},{"$f":"C142","v":0}]
["137 30 18","Gulvvarmefordeler 4 kurser",{"$f":"IF(Salus!F10+Salus!G10+Salus!H10=4, 1, 0)","v":0},0]
["137 30 19","Gulvvarmefordeler 5 kurser",{"$f":"IF(Salus!F10+Salus!G10+Salus!H10=5, 1, 0)","v":0},0]
["137 30 20","Gulvvarmefordeler 6 kurser",{"$f":"IF(Salus!F10+Salus!G10+Salus!H10=6, 1, 0)","v":0},0]
["137 30 21","Gulvvarmefordeler 7 kurser",{"$f":"IF(Salus!F10+Salus!G10+Salus!H10=7, 1, 0)","v":0},0]
["137 30 22","Gulvvarmefordeler 8 kurser",{"$f":"IF(Salus!F10+Salus!G10+Salus!H10=8, 1, 0)","v":0},0]
["137 30 23","Gulvvarmefordeler 9 kurser",{"$f":"IF(Salus!F10+Salus!G10+Salus!H10=9, 1, 0)","v":0},0]
["137 30 24","Gulvvarmefordeler 10 kurser",{"$f":"IF(Salus!F10+Salus!G10+Salus!H10=10, 1, 0)","v":0},0]
["137 30 25","Gulvvarmefordeler 11 kurser",{"$f":"IF(Salus!F10+Salus!G10+Salus!H10=11, 1, 0)","v":0},0]
["137 30 26","Gulvvarmefordeler 12 kurser",{"$f":"IF(Salus!F10+Salus!G10+Salus!H10=12, 1, 0)","v":0},0]
["137 30 27","Gulvvarmefordeler 13 kurser",{"$f":"IF(Salus!F10+Salus!G10+Salus!H10=13, 1, 0)","v":0},0]
["137 30 28","Gulvvarmefordeler 14 kurser",{"$f":"IF(Salus!F10+Salus!G10+Salus!H10=14, 1, 0)","v":0},0]
["137 30 29","Gulvvarmefordeler 15 kurser",{"$f":"IF(Salus!F10+Salus!G10+Salus!H10=15, 1, 0)","v":0},0]
[null,null,null,{"$f":"SUM(D141:D154)","v":0}]
["137 30 13","Kuplingssett 12x1.5x3/4\" (2 stk)",{"$f":"Salus!F10","v":0},{"$f":"C156","v":0}]
["137 30 14","Kuplingssett 16x2.0x3/4\" (2 stk)",{"$f":"Salus!G10","v":0},{"$f":"C157","v":0}]
["137 30 15","Kuplingssett 20x2.0x3/4\" (2 stk)",{"$f":"Salus!H10","v":0},0]
[]
["835 61 14","Rørføringsbend for 12mm rør",{"$f":"Salus!F10*2","v":0},{"$f":"C160","v":0}]
["835 61 15","Rørføringsbend for 16mm rør",{"$f":"Salus!G10*2","v":0},0]
["835 61 16","Rørføringsbend for 20mm rør",{"$f":"Salus!H10*2","v":0},0]
[null,null,null,{"$f":"SUM(D160:D162)","v":0}]
["835 60 38","Aktuator T30/230NC",{"$f":"Salus!L10","v":0},{"$f":"C164","v":0}]
["835 60 39","Trådløs Master 8 KL08",{"$f":"IF(Salus!M10=\"\",0,1)","v":0},0]
["835 60 41","Trådløs Master utbyggning  4 KL04",{"$f":"IF(Salus!M10<9,0,1)","v":0},0]
[]
["835 60 67","Trådløs romtermostat Quantum, hvit",{"$f":"IF(Salus!$M$16=Data!$K$1,Salus!M10,0)","v":0},{"$f":"C168","v":0}]
["835 60 77","Trådløs romtermostat Quantum, sort",{"$f":"IF(Salus!$M$16=Data!$K$3,Salus!M10,0)","v":0},0]
["835 60 66","Trådløs romtermostat Quantum 230V, hvit",{"$f":"IF(Salus!$M$16=Data!$K$2,Salus!M10,0)","v":0},0]
["835 60 78","Trådløs romtermostat Quantum 230V, sort",{"$f":"IF(Salus!$M$16=Data!$K$4,Salus!M10,0)","v":0},0]
["835 60 56","Trådløs romtermostat analog, hvit",{"$f":"IF(Salus!$M$16=Data!$K$5,Salus!M10,0)","v":0},0]
[]
[null,{"$f":"Salus!E11","v":"Skap 5"}]
["138 21 22","Gulvvarmeskap - 6 kurser, Arjonfloor",{"$f":"COUNTIFS(Salus!L11,\"<7\",Salus!L11,\">0\")","v":0},{"$f":"C175","v":0}]
["138 21 23","Gulvvarmeskap - 11 kurser, Arjonfloor",{"$f":"COUNTIFS(Salus!L11,\"<12\",Salus!L11,\">6\")","v":0},0]
["138 21 24","Gulvvarmeskap - 14 kurser, Arjonfloor",{"$f":"COUNTIFS(Salus!L11,\"<15\",Salus!L11,\">11\")","v":0},0]
[null,null,null,{"$f":"SUM(D175:D177)","v":0}]
["137 30 16","Gulvvarmefordeler 2 kurser",{"$f":"IF(Salus!F11+Salus!G11+Salus!H11=2, 1, 0)","v":0},{"$f":"C179","v":0}]
["137 30 17","Gulvvarmefordeler 3 kurser",{"$f":"IF(Salus!F11+Salus!G11+Salus!H11=3, 1, 0)","v":0},{"$f":"C180","v":0}]
["137 30 18","Gulvvarmefordeler 4 kurser",{"$f":"IF(Salus!F11+Salus!G11+Salus!H11=4, 1, 0)","v":0},0]
["137 30 19","Gulvvarmefordeler 5 kurser",{"$f":"IF(Salus!F11+Salus!G11+Salus!H11=5, 1, 0)","v":0},0]
["137 30 20","Gulvvarmefordeler 6 kurser",{"$f":"IF(Salus!F11+Salus!G11+Salus!H11=6, 1, 0)","v":0},0]
["137 30 21","Gulvvarmefordeler 7 kurser",{"$f":"IF(Salus!F11+Salus!G11+Salus!H11=7, 1, 0)","v":0},0]
["137 30 22","Gulvvarmefordeler 8 kurser",{"$f":"IF(Salus!F11+Salus!G11+Salus!H11=8, 1, 0)","v":0},0]
["137 30 23","Gulvvarmefordeler 9 kurser",{"$f":"IF(Salus!F11+Salus!G11+Salus!H11=9, 1, 0)","v":0},0]
["137 30 24","Gulvvarmefordeler 10 kurser",{"$f":"IF(Salus!F11+Salus!G11+Salus!H11=10, 1, 0)","v":0},0]
["137 30 25","Gulvvarmefordeler 11 kurser",{"$f":"IF(Salus!F11+Salus!G11+Salus!H11=11, 1, 0)","v":0},0]
["137 30 26","Gulvvarmefordeler 12 kurser",{"$f":"IF(Salus!F11+Salus!G11+Salus!H11=12, 1, 0)","v":0},0]
["137 30 27","Gulvvarmefordeler 13 kurser",{"$f":"IF(Salus!F11+Salus!G11+Salus!H11=13, 1, 0)","v":0},0]
["137 30 28","Gulvvarmefordeler 14 kurser",{"$f":"IF(Salus!F11+Salus!G11+Salus!H11=14, 1, 0)","v":0},0]
["137 30 29","Gulvvarmefordeler 15 kurser",{"$f":"IF(Salus!F11+Salus!G11+Salus!H11=15, 1, 0)","v":0},0]
[null,null,null,{"$f":"SUM(D179:D192)","v":0}]
["137 30 13","Kuplingssett 12x1.5x3/4\" (2 stk)",{"$f":"Salus!F11","v":0},{"$f":"C194","v":0}]
["137 30 14","Kuplingssett 16x2.0x3/4\" (2 stk)",{"$f":"Salus!G11","v":0},{"$f":"C195","v":0}]
["137 30 15","Kuplingssett 20x2.0x3/4\" (2 stk)",{"$f":"Salus!H11","v":0},0]
[]
["835 61 14","Rørføringsbend for 12mm rør",{"$f":"Salus!F11*2","v":0},{"$f":"C198","v":0}]
["835 61 15","Rørføringsbend for 16mm rør",{"$f":"Salus!G11*2","v":0},0]
["835 61 16","Rørføringsbend for 20mm rør",{"$f":"Salus!H11*2","v":0},0]
[null,null,null,{"$f":"SUM(D198:D200)","v":0}]
["835 60 38","Aktuator T30/230NC",{"$f":"Salus!L11","v":0},{"$f":"C202","v":0}]
["835 60 39","Trådløs Master 8 KL08",{"$f":"IF(Salus!M11=\"\",0,1)","v":0},0]
["835 60 41","Trådløs Master utbyggning  4 KL04",{"$f":"IF(Salus!M11<9,0,1)","v":0},0]
[]
["835 60 67","Trådløs romtermostat Quantum, hvit",{"$f":"IF(Salus!$M$16=Data!$K$1,Salus!M11,0)","v":0},{"$f":"C206","v":0}]
["835 60 77","Trådløs romtermostat Quantum, sort",{"$f":"IF(Salus!$M$16=Data!$K$3,Salus!M11,0)","v":0},0]
["835 60 66","Trådløs romtermostat Quantum 230V, hvit",{"$f":"IF(Salus!$M$16=Data!$K$2,Salus!M11,0)","v":0},0]
["835 60 78","Trådløs romtermostat Quantum 230V, sort",{"$f":"IF(Salus!$M$16=Data!$K$4,Salus!M11,0)","v":0},0]
["835 60 56","Trådløs romtermostat analog, hvit",{"$f":"IF(Salus!$M$16=Data!$K$5,Salus!M11,0)","v":0},0]
[]
[null,{"$f":"Salus!E12","v":"Skap 6"}]
["138 21 22","Gulvvarmeskap - 6 kurser, Arjonfloor",{"$f":"COUNTIFS(Salus!L12,\"<7\",Salus!L12,\">0\")","v":0},{"$f":"C213","v":0}]
["138 21 23","Gulvvarmeskap - 11 kurser, Arjonfloor",{"$f":"COUNTIFS(Salus!L212,\"<12\",Salus!L12,\">6\")","v":0},0]
["138 21 24","Gulvvarmeskap - 14 kurser, Arjonfloor",{"$f":"COUNTIFS(Salus!L12,\"<15\",Salus!L12,\">11\")","v":0},0]
[null,null,null,{"$f":"SUM(D213:D215)","v":0}]
["137 30 16","Gulvvarmefordeler 2 kurser",{"$f":"IF(Salus!F12+Salus!G12+Salus!H12=2, 1, 0)","v":0},{"$f":"C217","v":0}]
["137 30 17","Gulvvarmefordeler 3 kurser",{"$f":"IF(Salus!F12+Salus!G12+Salus!H12=3, 1, 0)","v":0},{"$f":"C218","v":0}]
["137 30 18","Gulvvarmefordeler 4 kurser",{"$f":"IF(Salus!F12+Salus!G12+Salus!H12=4, 1, 0)","v":0},0]
["137 30 19","Gulvvarmefordeler 5 kurser",{"$f":"IF(Salus!F12+Salus!G12+Salus!H12=5, 1, 0)","v":0},0]
["137 30 20","Gulvvarmefordeler 6 kurser",{"$f":"IF(Salus!F12+Salus!G12+Salus!H12=6, 1, 0)","v":0},0]
["137 30 21","Gulvvarmefordeler 7 kurser",{"$f":"IF(Salus!F12+Salus!G12+Salus!H12=7, 1, 0)","v":0},0]
["137 30 22","Gulvvarmefordeler 8 kurser",{"$f":"IF(Salus!F12+Salus!G12+Salus!H12=8, 1, 0)","v":0},0]
["137 30 23","Gulvvarmefordeler 9 kurser",{"$f":"IF(Salus!F12+Salus!G12+Salus!H12=9, 1, 0)","v":0},0]
["137 30 24","Gulvvarmefordeler 10 kurser",{"$f":"IF(Salus!F12+Salus!G12+Salus!H12=10, 1, 0)","v":0},0]
["137 30 25","Gulvvarmefordeler 11 kurser",{"$f":"IF(Salus!F12+Salus!G12+Salus!H12=11, 1, 0)","v":0},0]
["137 30 26","Gulvvarmefordeler 12 kurser",{"$f":"IF(Salus!F12+Salus!G12+Salus!H12=12, 1, 0)","v":0},0]
["137 30 27","Gulvvarmefordeler 13 kurser",{"$f":"IF(Salus!F12+Salus!G12+Salus!H12=13, 1, 0)","v":0},0]
["137 30 28","Gulvvarmefordeler 14 kurser",{"$f":"IF(Salus!F12+Salus!G12+Salus!H12=14, 1, 0)","v":0},0]
["137 30 29","Gulvvarmefordeler 15 kurser",{"$f":"IF(Salus!F12+Salus!G12+Salus!H12=15, 1, 0)","v":0},0]
[null,null,null,{"$f":"SUM(D217:D230)","v":0}]
["137 30 13","Kuplingssett 12x1.5x3/4\" (2 stk)",{"$f":"Salus!F12","v":0},{"$f":"C232","v":0}]
["137 30 14","Kuplingssett 16x2.0x3/4\" (2 stk)",{"$f":"Salus!G12","v":0},{"$f":"C233","v":0}]
["137 30 15","Kuplingssett 20x2.0x3/4\" (2 stk)",{"$f":"Salus!H12","v":0},0]
[]
["835 61 14","Rørføringsbend for 12mm rør",{"$f":"Salus!F12*2","v":0},{"$f":"C236","v":0}]
["835 61 15","Rørføringsbend for 16mm rør",{"$f":"Salus!G12*2","v":0},0]
["835 61 16","Rørføringsbend for 20mm rør",{"$f":"Salus!H12*2","v":0},0]
[null,null,null,{"$f":"SUM(D236:D238)","v":0}]
["835 60 38","Aktuator T30/230NC",{"$f":"Salus!L12","v":0},{"$f":"C240","v":0}]
["835 60 39","Trådløs Master 8 KL08",{"$f":"IF(Salus!M12=\"\",0,1)","v":0},0]
["835 60 41","Trådløs Master utbyggning  4 KL04",{"$f":"IF(Salus!M12<9,0,1)","v":0},0]
[]
["835 60 67","Trådløs romtermostat Quantum, hvit",{"$f":"IF(Salus!$M$16=Data!$K$1,Salus!M12,0)","v":0},{"$f":"C244","v":0}]
["835 60 77","Trådløs romtermostat Quantum, sort",{"$f":"IF(Salus!$M$16=Data!$K$3,Salus!M12,0)","v":0},0]
["835 60 66","Trådløs romtermostat Quantum 230V, hvit",{"$f":"IF(Salus!$M$16=Data!$K$2,Salus!M12,0)","v":0},0]
["835 60 78","Trådløs romtermostat Quantum 230V, sort",{"$f":"IF(Salus!$M$16=Data!$K$4,Salus!M12,0)","v":0},0]
["835 60 56","Trådløs romtermostat analog, hvit",{"$f":"IF(Salus!$M$16=Data!$K$5,Salus!M12,0)","v":0},0]

{"sheet":"Data","index":2,"n_rows":57,"n_cols":11,"rows_kept":57,"cut":false,"hidden":true,"merged":[]}
["NRF","Artikkel",null,"Antall/m² ",null,null,"Ja","Trådløs (Batteri)","Skap 1",null,"Hvit, batteridrevet, digital"]
["137 28 81","Gulvvarmerør 12x21.5 PE-RT - 150 m",null,8.5,null,null,"Nei","Kablet (230V)","Skap 2",null,"Hvit, 230V, digital, kablet strømtilførsel"]
["137 28 83","Gulvvarmerør 16x2.0 PE-RT - 600 m",null,5.5,null,null,null,"Analog (Batteri)","Skap 3",null,"Svart, batteridrevet, digital"]
["137 28 85","Gulvvarmerør 20x2.0 PE-RT - 500 m",null,3.5,null,null,null,null,"Skap 4",null,"Svart, 230V, digital, kablet strømtilførsel"]
[null,null,null,null,null,null,null,null,"Skap 5",null,"Hvit, batteridrevet, analog"]
["835 60 23","Kompakt m/vendespor 12/125/13x750x1175",null,1.1000000000000001,null,null,null,null,"Skap 6"]
["835 60 26","Kompakt m/vendespor 16/192/17x768x1175",null,1.1000000000000001]
[]
["835 61 43","EPS-plate m/alum. 16/192/25x768x1175. Easy",null,1.1000000000000001]
["835 61 44","EPS-plate m/alum. 16/192/50x768x1175, Easy",null,1.1000000000000001]
[]
["835 61 01","Festeskinne 12-22 mm, L=1m",null,1]
["835 61 03","Festeklips 16-20mm, lengde 60mm",null,8]
["835 61 11","Festeklips festeskinne 16-20mm",null,3]
["835 61 04","Festeklips 12mm",null,8]
[]
["835 61 47","Alu-plate 1/16/190/1150",null,{"$f":"0.85*4.35","v":3.6974999999999998}]
["835 61 48","Alu-plate 1/20/280/1150",null,2.5499999999999998]
[]
["835 60 46","Universal nettverksport"]
[]
["138 21 22","Gulvvarmeskap - 6 kurser, Arjonfloor"]
["138 21 23","Gulvvarmeskap - 11 kurser, Arjonfloor"]
["138 21 24","Gulvvarmeskap - 14 kurser, Arjonfloor"]
[]
["137 30 16","Gulvvarmefordeler 2 kurser"]
["137 30 17","Gulvvarmefordeler 3 kurser"]
["137 30 18","Gulvvarmefordeler 4 kurser"]
["137 30 19","Gulvvarmefordeler 5 kurser"]
["137 30 20","Gulvvarmefordeler 6 kurser"]
["137 30 21","Gulvvarmefordeler 7 kurser"]
["137 30 22","Gulvvarmefordeler 8 kurser"]
["137 30 23","Gulvvarmefordeler 9 kurser"]
["137 30 24","Gulvvarmefordeler 10 kurser"]
["137 30 25","Gulvvarmefordeler 11 kurser"]
["137 30 26","Gulvvarmefordeler 12 kurser"]
["137 30 27","Gulvvarmefordeler 13 kurser"]
["137 30 28","Gulvvarmefordeler 14 kurser"]
["137 30 29","Gulvvarmefordeler 15 kurser"]
[]
["137 30 13","Kuplingssett 12x1.5x3/4\" (2 stk)"]
["137 30 14","Kuplingssett 16x2.0x3/4\" (2 stk)"]
["137 30 15","Kuplingssett 20x2.0x3/4\" (2 stk)"]
[]
["835 61 14","Rørføringsbend for 12mm rør"]
["835 61 15","Rørføringsbend for 16mm rør"]
["835 61 16","Rørføringsbend for 20mm rør"]
[]
["835 60 38","Aktuator T30/230NC"]
["835 60 39","Trådløs Master 8 KL08"]
["835 60 41","Trådløs Master utbyggning  4 KL04"]
[]
["835 60 67","Trådløs romtermostat Quantum, hvit"]
["835 60 77","Trådløs romtermostat Quantum, sort"]
["835 60 66","Trådløs romtermostat Quantum 230V, hvit"]
["835 60 78","Trådløs romtermostat Quantum 230V, sort"]
["835 60 56","Trådløs romtermostat analog, hvit"]

{"sheet":"Salus_material","index":3,"n_rows":0,"n_cols":0,"rows_kept":0,"cut":false,"hidden":false,"merged":[]}

{"sheet":"Xlsx_print","index":4,"n_rows":0,"n_cols":0,"rows_kept":0,"cut":false,"hidden":true,"merged":[]}

{"sheet":"Sammendrag","index":5,"n_rows":47,"n_cols":4,"rows_kept":47,"cut":false,"hidden":true,"merged":[[24,1,24,3],[1,1,1,3],[46,0,48,3]]}
[]
["Prosjektnavn",{"$f":"Salus!B2","v":0}]
[]
["Rør og festemateriell"]
[null,null,"Areal"]
["12mm rør i Kompaktplater 13mm EPS",null,{"$f":"Salus!B7","v":0}]
["16mm rør i Kompaktplater 17mm EPS",null,{"$f":"Salus!B8","v":0}]
[]
["16mm rør i Easy-plater 25mm EPS",null,{"$f":"Salus!B10","v":0}]
["16mm rør i Easy-plater 50mm EPS",null,{"$f":"Salus!B11","v":0}]
[]
["12mm i festeskinner på isolasjon",null,{"$f":"Salus!B13","v":0}]
["16mm i festeskinner på isolasjon",null,{"$f":"Salus!B14","v":0}]
["20mm i festeskinner på isolasjon",null,{"$f":"Salus!B15","v":0}]
[]
["16mm rør i aluminiumsplater",null,{"$f":"Salus!B17","v":0}]
["20mm rør i aluminiumsplater",null,{"$f":"Salus!B18","v":0}]
[]
["12mm rør uten festemateriell",null,{"$f":"Salus!B20","v":0}]
["16mm rør uten festemateriell",null,{"$f":"Salus!B21","v":0}]
["20mm rør uten festemateriell",null,{"$f":"Salus!B22","v":0}]
[]
[]
["Skap og fordelere"]
[null,"Antall kurser"]
[null,"12mm","16mm","20mm"]
[{"$f":"Salus!E7","v":"Skap 1"},{"$f":"Salus!F7","v":0},{"$f":"Salus!G7","v":0},{"$f":"Salus!H7","v":0}]
[{"$f":"Salus!E8","v":"Skap 2"},{"$f":"Salus!F8","v":0},{"$f":"Salus!G8","v":0},{"$f":"Salus!H8","v":0}]
[{"$f":"Salus!E9","v":"Skap 3"},{"$f":"Salus!F9","v":0},{"$f":"Salus!G9","v":0},{"$f":"Salus!H9","v":0}]
[{"$f":"Salus!E10","v":"Skap 4"},{"$f":"Salus!F10","v":0},{"$f":"Salus!G10","v":0},{"$f":"Salus!H10","v":0}]
[{"$f":"Salus!E11","v":"Skap 5"},{"$f":"Salus!F11","v":0},{"$f":"Salus!G11","v":0},{"$f":"Salus!H11","v":0}]
[{"$f":"Salus!E12","v":"Skap 6"},{"$f":"Salus!F12","v":0},{"$f":"Salus!G12","v":0},{"$f":"Salus!H12","v":0}]
[]
[]
["Styring"]
[null,"Antall kurser","Antall soner"]
[{"$f":"Salus!E7","v":"Skap 1"},{"$f":"Salus!L7","v":0},{"$f":"Salus!M7","v":0}]
[{"$f":"Salus!E8","v":"Skap 2"},{"$f":"Salus!L8","v":0},{"$f":"Salus!M8","v":0}]
[{"$f":"Salus!E9","v":"Skap 3"},{"$f":"Salus!L9","v":0},{"$f":"Salus!M9","v":0}]
[{"$f":"Salus!E10","v":"Skap 4"},{"$f":"Salus!L10","v":0},{"$f":"Salus!M10","v":0}]
[{"$f":"Salus!E11","v":"Skap 5"},{"$f":"Salus!L11","v":0},{"$f":"Salus!M11","v":0}]
[{"$f":"Salus!E12","v":"Skap 6"},{"$f":"Salus!L12","v":0},{"$f":"Salus!M12","v":0}]
[]
["Styring via app?",{"$f":"Salus!M14","v":0}]
["Type termostat",{"$f":"Salus!M16","v":"Hvit, batteridrevet, digital"}]
[]
["Dette arket er laget for å gi et overslag på materialforbruk ved bruk av Arjonfloor gulvvarme fra Armaturjonsson AS. Armaturjonsson AS står ikke ansvarlig for eventuelle mangler eller feil."]

{"sheet":"Ark1","index":6,"n_rows":36,"n_cols":9,"rows_kept":36,"cut":false,"hidden":true,"merged":[]}
[]
["Utgått",null,null,null,null,"Nytt"]
[]
["Fritekst","Produktnr.","NRF","Beskrivelse",null,"Fritekst","Produktnr.","NRF","Beskrivelse"]
[null,null,"835 60 01","Gulvvarmerør 12x1.7 pex - 100m, Arjonfloor",null,null,null,"137 28 81","Gulvvarmerør 12x21.5 PE-RT - 150 m"]
[null,1316600132,"835 60 04","Gulvvarmerør 16x1.8 pex - 600 m, Arjonfloor",null,null,"20AJ2016600","137 28 83","Gulvvarmerør 16x2.0 PE-RT - 600 m"]
[null,1320500132,"835 60 05","Gulvvarmerør 20x2.0 pex - 500 m, Arjonfloor",null,null,"20AJ2020500","137 28 85","Gulvvarmerør 20x2.0 PE-RT - 500 m"]
[]
[null,5000017152,"835 63 24","Fordelerskap      6  kurser, Arjonfloor",null,null,6000017152,"138 21 22","Gulvvarmeskap       6  kurser"]
[null,5000018152,"835 63 25","Fordelerskap    10  kurser, Arjonfloor",null,null,6000018152,"138 21 23","Gulvvarmeskap     11  kurser"]
[null,5000019152,"835 63 26","Fordelerskap    13  kurser, Arjonfloor",null,null,6000019152,"138 21 24","Gulvvarmeskap     14  kurser"]
[]
[null,3016084147,"835 62 71","Modulfordeler gulvvarme   2 kurser 16 mm",null,null,"18AJ801002","137 30 16","Gulvvarmefordeler 2 kurser"]
[null,3016085147,"835 62 72","Modulfordeler gulvvarme   3 kurser 16 mm",null,null,"18AJ801003","137 30 17","Gulvvarmefordeler 3 kurser"]
[null,3020086147,"835 62 75","Modulfordeler gulvvarme   2 kurser 20 mm",null,null,"18AJ801004","137 30 18","Gulvvarmefordeler 4 kurser"]
[null,3020087147,"835 62 76","Modulfordeler gulvvarme   3 kurser 20 mm",null,null,"18AJ801005","137 30 19","Gulvvarmefordeler 5 kurser"]
[null,3000026133,"835 62 47","Endestykke i par f. gulvvarmefordeler rød/blå",null,null,"18AJ801006","137 30 20","Gulvvarmefordeler 6 kurser"]
[null,85000300,"835 62 81","Ventil til fordeler  1\"x 1\" utv.gj.",null,null,"18AJ801007","137 30 21","Gulvvarmefordeler 7 kurser"]
[null,85000400,"835 62 82","Albue N 1\"x1\" m/frimutter lang side",null,null,"18AJ801008","137 30 22","Gulvvarmefordeler 8 kurser"]
[null,null,"511 21 22","Overgangsunion 16-12mm",null,null,"18AJ801009","137 30 23","Gulvvarmefordeler 9 kurser"]
[null,null,null,null,null,null,"18AJ801010","137 30 24","Gulvvarmefordeler 10 kurser"]
[null,null,null,null,null,null,"18AJ801011","137 30 25","Gulvvarmefordeler 11 kurser"]
[null,null,null,null,null,null,"18AJ801012","137 30 26","Gulvvarmefordeler 12 kurser"]
[null,null,null,null,null,null,"18AJ801013","137 30 27","Gulvvarmefordeler 13 kurser"]
[null,null,null,null,null,null,"18AJ801014","137 30 28","Gulvvarmefordeler 14 kurser"]
[null,null,null,null,null,null,"18AJ801015","137 30 29","Gulvvarmefordeler 15 kurser"]
[]
[null,null,null,null,null,null,"70X10401640","137 30 14","Kuplingssett 16x2,0x3/4\" (2 stk )"]
[null,null,null,null,null,null,"70X10402040","137 30 15","Kuplingssett 20x2,0x3/4\" (2 stk )"]
[]
[null,40001623,"835 60 42","Trådløs romtermostat, hvit",null,null,40001626,"835 60 67","Trådløs romtermostat Quantum, hvit"]
[null,40001723,"835 60 43","Trådløs romtermostat, sort",null,null,40001627,"835 60 77","Trådløs romtermostat Quantum, sort"]
[null,40002224,"835 60 48","Trådløs romtermostat 230V, sort",null,null,40001625,"835 60 66","Trådløs romtermostat Quantum 230V, hvit"]
[null,40002223,"835 60 49","Trådløs romtermostat 230V, hvit",null,null,40001628,"835 60 78","Trådløs romtermostat Quantum 230V, sort"]
[]
[null,null,null,null,null,null,40001724,"835 60 56","Trådløs romtermostat analog, hvit"]